BEGIN:VCALENDAR
VERSION:2.0
PRODID:-//Recovery College Calgary - ECPv6.15.20//NONSGML v1.0//EN
CALSCALE:GREGORIAN
METHOD:PUBLISH
X-WR-CALNAME:Recovery College Calgary
X-ORIGINAL-URL:https://recoverycollegecalgary.ca
X-WR-CALDESC:Events for Recovery College Calgary
REFRESH-INTERVAL;VALUE=DURATION:PT1H
X-Robots-Tag:noindex
X-PUBLISHED-TTL:PT1H
BEGIN:VTIMEZONE
TZID:America/Edmonton
BEGIN:DAYLIGHT
TZOFFSETFROM:-0700
TZOFFSETTO:-0600
TZNAME:MDT
DTSTART:20250309T090000
END:DAYLIGHT
BEGIN:STANDARD
TZOFFSETFROM:-0600
TZOFFSETTO:-0700
TZNAME:MST
DTSTART:20251102T080000
END:STANDARD
BEGIN:DAYLIGHT
TZOFFSETFROM:-0700
TZOFFSETTO:-0600
TZNAME:MDT
DTSTART:20260308T090000
END:DAYLIGHT
BEGIN:STANDARD
TZOFFSETFROM:-0600
TZOFFSETTO:-0700
TZNAME:MST
DTSTART:20261101T080000
END:STANDARD
BEGIN:DAYLIGHT
TZOFFSETFROM:-0700
TZOFFSETTO:-0600
TZNAME:MDT
DTSTART:20270314T090000
END:DAYLIGHT
BEGIN:STANDARD
TZOFFSETFROM:-0600
TZOFFSETTO:-0700
TZNAME:MST
DTSTART:20271107T080000
END:STANDARD
END:VTIMEZONE
BEGIN:VEVENT
DTSTART;TZID=America/Edmonton:20260424T100000
DTEND;TZID=America/Edmonton:20260424T120000
DTSTAMP:20260424T050142
CREATED:20260226T212814Z
LAST-MODIFIED:20260226T212814Z
UID:10003800-1777024800-1777032000@recoverycollegecalgary.ca
SUMMARY:Dealing with Tough Stuff
DESCRIPTION:
URL:https://recoverycollegecalgary.ca/event/dealing-with-tough-stuff-54/
LOCATION:Online
CATEGORIES:Online
END:VEVENT
BEGIN:VEVENT
DTSTART;TZID=America/Edmonton:20260424T130000
DTEND;TZID=America/Edmonton:20260424T160000
DTSTAMP:20260424T050142
CREATED:20260303T202552Z
LAST-MODIFIED:20260303T202552Z
UID:10003838-1777035600-1777046400@recoverycollegecalgary.ca
SUMMARY:Peer Connection and Leisure
DESCRIPTION:
URL:https://recoverycollegecalgary.ca/event/peer-connection-and-leisure-50/
LOCATION:CMHA Welcome Centre\, 2540 Kensington Rd NW\, Calgary\, Alberta\, T2N 3S3\, Canada
GEO:51.05267;-114.119997
X-APPLE-STRUCTURED-LOCATION;VALUE=URI;X-ADDRESS=CMHA Welcome Centre 2540 Kensington Rd NW Calgary Alberta T2N 3S3 Canada;X-APPLE-RADIUS=500;X-TITLE=2540 Kensington Rd NW:geo:-114.119997,51.05267
END:VEVENT
BEGIN:VEVENT
DTSTART;TZID=America/Edmonton:20260424T140000
DTEND;TZID=America/Edmonton:20260424T160000
DTSTAMP:20260424T050142
CREATED:20260206T212622Z
LAST-MODIFIED:20260226T213428Z
UID:10003798-1777039200-1777046400@recoverycollegecalgary.ca
SUMMARY:Practicing Mindfulness
DESCRIPTION:
URL:https://recoverycollegecalgary.ca/event/practicing-compassion-38/
LOCATION:Online
CATEGORIES:Online
END:VEVENT
END:VCALENDAR